BEGIN:VCALENDAR
VERSION:2.0
PRODID:-//Eventin//Event Calendar//EN
CALSCALE:GREGORIAN
METHOD:PUBLISH
BEGIN:VEVENT
UID:054f3a6c06d5c65aca1136ce22adf4be@ipmo.nl
SUMMARY:Digital Media & Content Creation Professional Course
DESCRIPTION:A comprehensive professional program designed for journalists a
 nd media creators to master digital communication tools\, social media stra
 tegy\, and modern storytelling techniques in alignment with international s
 tandards.
LOCATION:Online
DTSTAMP:20260423T142354Z
DTSTART:20260704T061300Z
DTEND:20260708T071300Z
END:VEVENT
END:VCALENDAR
