BEGIN:VCALENDAR
VERSION:2.0
PRODID:-//Eventin//Event Calendar//EN
CALSCALE:GREGORIAN
METHOD:PUBLISH
BEGIN:VEVENT
UID:41d57afc9132fe179c7e2c2b8c2cfaca@ipmo.nl
SUMMARY:International Conference: Ending Impunity for Crimes Against Journa
 lists
DESCRIPTION:Held at The Hague University\, this conference brings together 
 legal experts\, policymakers\, and investigative journalists to address the
  rising threats against media professionals globally\, with a focus on acco
 untability and international law
LOCATION:The Hague University of Applied Sciences\, Netherlands
DTSTAMP:20260423T143649Z
DTSTART:20260609T070900Z
DTEND:20260609T080900Z
END:VEVENT
END:VCALENDAR
