BEGIN:VCALENDAR
VERSION:2.0
PRODID:-//Eventin//Event Calendar//EN
CALSCALE:GREGORIAN
METHOD:PUBLISH
BEGIN:VEVENT
UID:cdb5c289e82f3453154c753cbdf3a688@ipmo.nl
SUMMARY:Journalism Skills Course in Zaandam
DESCRIPTION:IPMO invites journalists and volunteers to join this free train
 ing course\, as part of a program to support low-income journalists in the 
 Netherlands.
LOCATION:Zaandam 
DTSTAMP:20260423T144254Z
DTSTART:20260502T071900Z
DTEND:20260506T081900Z
END:VEVENT
END:VCALENDAR
